
BEGIN:VCALENDAR
PRODID:-//Calendar//Calendar Event//EN
VERSION:2.0
METHOD:PUBLISH
BEGIN:VEVENT
DTSTAMP:20260303T195649Z
UID:event743437-1781015400@biblioottawalibrary.ca
ORGANIZER;CN=Ottawa Public Library:MAILTO:oplwebchanges@biblioottawalibrary.ca
DTSTART;TZID=America/Toronto:20260609T103000
DTEND;TZID=America/Toronto:20260609T113000
SUMMARY:EcoRangers: Finding Nemo
DESCRIPTION:Explore. Protect. Play!A nature adventure for kids! Discover the amazing animals of Finding Nemo through&nbsp\;crafts&nbsp\;and games. This program has interactive\, self-directed stations that allow kids to explore at their own pace\, with guidance provided when needed.Family program. Drop-in program.
LOCATION:Ruth E. Dickinson at Children's program room
SEQUENCE:0
END:VEVENT

END:VCALENDAR