
BEGIN:VCALENDAR
PRODID:-//Calendar//Calendar Event//EN
VERSION:2.0
METHOD:PUBLISH
BEGIN:VEVENT
DTSTAMP:20260306T112356Z
UID:event743498-1779114600@biblioottawalibrary.ca
ORGANIZER;CN=Ottawa Public Library:MAILTO:oplwebchanges@biblioottawalibrary.ca
DTSTART;TZID=America/Toronto:20260518T103000
DTEND;TZID=America/Toronto:20260518T113000
SUMMARY:Toddler Stay and Play
DESCRIPTION:Drop in to our program room where you will find an assortment of toys and free play opportunities.&nbsp\; Meet and connect with other parents while your children learn to socialize with other toddlers.
LOCATION:St-Laurent at Claude B. Aubry room
SEQUENCE:0
END:VEVENT
BEGIN:VEVENT
DTSTAMP:20260306T112356Z
UID:event743498-1780324200@biblioottawalibrary.ca
ORGANIZER;CN=Ottawa Public Library:MAILTO:oplwebchanges@biblioottawalibrary.ca
DTSTART;TZID=America/Toronto:20260601T103000
DTEND;TZID=America/Toronto:20260601T113000
SUMMARY:Toddler Stay and Play
DESCRIPTION:Drop in to our program room where you will find an assortment of toys and free play opportunities.&nbsp\; Meet and connect with other parents while your children learn to socialize with other toddlers.
LOCATION:St-Laurent at Claude B. Aubry room
SEQUENCE:0
END:VEVENT
BEGIN:VEVENT
DTSTAMP:20260306T112356Z
UID:event743498-1780929000@biblioottawalibrary.ca
ORGANIZER;CN=Ottawa Public Library:MAILTO:oplwebchanges@biblioottawalibrary.ca
DTSTART;TZID=America/Toronto:20260608T103000
DTEND;TZID=America/Toronto:20260608T113000
SUMMARY:Toddler Stay and Play
DESCRIPTION:Drop in to our program room where you will find an assortment of toys and free play opportunities.&nbsp\; Meet and connect with other parents while your children learn to socialize with other toddlers.
LOCATION:St-Laurent at Claude B. Aubry room
SEQUENCE:0
END:VEVENT
BEGIN:VEVENT
DTSTAMP:20260306T112356Z
UID:event743498-1781533800@biblioottawalibrary.ca
ORGANIZER;CN=Ottawa Public Library:MAILTO:oplwebchanges@biblioottawalibrary.ca
DTSTART;TZID=America/Toronto:20260615T103000
DTEND;TZID=America/Toronto:20260615T113000
SUMMARY:Toddler Stay and Play
DESCRIPTION:Drop in to our program room where you will find an assortment of toys and free play opportunities.&nbsp\; Meet and connect with other parents while your children learn to socialize with other toddlers.
LOCATION:St-Laurent at Claude B. Aubry room
SEQUENCE:0
END:VEVENT
BEGIN:VEVENT
DTSTAMP:20260306T112356Z
UID:event743498-1782138600@biblioottawalibrary.ca
ORGANIZER;CN=Ottawa Public Library:MAILTO:oplwebchanges@biblioottawalibrary.ca
DTSTART;TZID=America/Toronto:20260622T103000
DTEND;TZID=America/Toronto:20260622T113000
SUMMARY:Toddler Stay and Play
DESCRIPTION:Drop in to our program room where you will find an assortment of toys and free play opportunities.&nbsp\; Meet and connect with other parents while your children learn to socialize with other toddlers.
LOCATION:St-Laurent at Claude B. Aubry room
SEQUENCE:0
END:VEVENT
BEGIN:VEVENT
DTSTAMP:20260306T112356Z
UID:event743498-1782743400@biblioottawalibrary.ca
ORGANIZER;CN=Ottawa Public Library:MAILTO:oplwebchanges@biblioottawalibrary.ca
DTSTART;TZID=America/Toronto:20260629T103000
DTEND;TZID=America/Toronto:20260629T113000
SUMMARY:Toddler Stay and Play
DESCRIPTION:Drop in to our program room where you will find an assortment of toys and free play opportunities.&nbsp\; Meet and connect with other parents while your children learn to socialize with other toddlers.
LOCATION:St-Laurent at Claude B. Aubry room
SEQUENCE:0
END:VEVENT

END:VCALENDAR