
BEGIN:VCALENDAR
PRODID:-//Calendar//Calendar Event//EN
VERSION:2.0
METHOD:PUBLISH
BEGIN:VEVENT
DTSTAMP:20260306T114624Z
UID:event743503-1779287400@biblioottawalibrary.ca
ORGANIZER;CN=Ottawa Public Library:MAILTO:oplwebchanges@biblioottawalibrary.ca
DTSTART;TZID=America/Toronto:20260520T103000
DTEND;TZID=America/Toronto:20260520T113000
SUMMARY:Jouons à la biblio
DESCRIPTION:Nous fournissons les jouets pour un temps de jouer et socialiser\,&nbsp\; Programme pour les enfants de tous âges et un parent ou gardien.
LOCATION:St-Laurent at Claude B. Aubry room
SEQUENCE:0
END:VEVENT
BEGIN:VEVENT
DTSTAMP:20260306T114624Z
UID:event743503-1779892200@biblioottawalibrary.ca
ORGANIZER;CN=Ottawa Public Library:MAILTO:oplwebchanges@biblioottawalibrary.ca
DTSTART;TZID=America/Toronto:20260527T103000
DTEND;TZID=America/Toronto:20260527T113000
SUMMARY:Jouons à la biblio
DESCRIPTION:Nous fournissons les jouets pour un temps de jouer et socialiser\,&nbsp\; Programme pour les enfants de tous âges et un parent ou gardien.
LOCATION:St-Laurent at Claude B. Aubry room
SEQUENCE:0
END:VEVENT
BEGIN:VEVENT
DTSTAMP:20260306T114624Z
UID:event743503-1780497000@biblioottawalibrary.ca
ORGANIZER;CN=Ottawa Public Library:MAILTO:oplwebchanges@biblioottawalibrary.ca
DTSTART;TZID=America/Toronto:20260603T103000
DTEND;TZID=America/Toronto:20260603T113000
SUMMARY:Jouons à la biblio
DESCRIPTION:Nous fournissons les jouets pour un temps de jouer et socialiser\,&nbsp\; Programme pour les enfants de tous âges et un parent ou gardien.
LOCATION:St-Laurent at Claude B. Aubry room
SEQUENCE:0
END:VEVENT
BEGIN:VEVENT
DTSTAMP:20260306T114624Z
UID:event743503-1781101800@biblioottawalibrary.ca
ORGANIZER;CN=Ottawa Public Library:MAILTO:oplwebchanges@biblioottawalibrary.ca
DTSTART;TZID=America/Toronto:20260610T103000
DTEND;TZID=America/Toronto:20260610T113000
SUMMARY:Jouons à la biblio
DESCRIPTION:Nous fournissons les jouets pour un temps de jouer et socialiser\,&nbsp\; Programme pour les enfants de tous âges et un parent ou gardien.
LOCATION:St-Laurent at Claude B. Aubry room
SEQUENCE:0
END:VEVENT
BEGIN:VEVENT
DTSTAMP:20260306T114624Z
UID:event743503-1781706600@biblioottawalibrary.ca
ORGANIZER;CN=Ottawa Public Library:MAILTO:oplwebchanges@biblioottawalibrary.ca
DTSTART;TZID=America/Toronto:20260617T103000
DTEND;TZID=America/Toronto:20260617T113000
SUMMARY:Jouons à la biblio
DESCRIPTION:Nous fournissons les jouets pour un temps de jouer et socialiser\,&nbsp\; Programme pour les enfants de tous âges et un parent ou gardien.
LOCATION:St-Laurent at Claude B. Aubry room
SEQUENCE:0
END:VEVENT
BEGIN:VEVENT
DTSTAMP:20260306T114624Z
UID:event743503-1782311400@biblioottawalibrary.ca
ORGANIZER;CN=Ottawa Public Library:MAILTO:oplwebchanges@biblioottawalibrary.ca
DTSTART;TZID=America/Toronto:20260624T103000
DTEND;TZID=America/Toronto:20260624T113000
SUMMARY:Jouons à la biblio
DESCRIPTION:Nous fournissons les jouets pour un temps de jouer et socialiser\,&nbsp\; Programme pour les enfants de tous âges et un parent ou gardien.
LOCATION:St-Laurent at Claude B. Aubry room
SEQUENCE:0
END:VEVENT

END:VCALENDAR