
BEGIN:VCALENDAR
PRODID:-//Calendar//Calendar Event//EN
VERSION:2.0
METHOD:PUBLISH
BEGIN:VEVENT
DTSTAMP:20260318T145846Z
UID:event743700-1780351200@biblioottawalibrary.ca
ORGANIZER;CN=Ottawa Public Library:MAILTO:oplwebchanges@biblioottawalibrary.ca
DTSTART;TZID=America/Toronto:20260601T180000
DTEND;TZID=America/Toronto:20260601T200000
SUMMARY:It's Time to Watch a Movie! 
DESCRIPTION:June 1\, at 6 pm: Freakier FridayTess's daughter Anna now has a daughter of her own and soon\, a stepdaughter. As they navigate the joys and challenges when two families merge\, lightning just may strike twice.July 6\, at 6 pm: If I Had Legs\, I’d Kick YouWith her life crashing down around her\, Linda attempts to navigate her child's mysterious illness\, her absent husband\, a missing person\, and an increasingly hostile relationship with her therapist.August 10\, at 6 pm: Good FortuneA well-meaning but rather inept angel named Gabriel meddles in the lives of a struggling gig worker and a wealthy venture capitalist.
LOCATION:St-Laurent at Claude B. Aubry room
SEQUENCE:0
END:VEVENT
BEGIN:VEVENT
DTSTAMP:20260318T145846Z
UID:event743700-1783375200@biblioottawalibrary.ca
ORGANIZER;CN=Ottawa Public Library:MAILTO:oplwebchanges@biblioottawalibrary.ca
DTSTART;TZID=America/Toronto:20260706T180000
DTEND;TZID=America/Toronto:20260706T200000
SUMMARY:It's Time to Watch a Movie! 
DESCRIPTION:June 1\, at 6 pm: Freakier FridayTess's daughter Anna now has a daughter of her own and soon\, a stepdaughter. As they navigate the joys and challenges when two families merge\, lightning just may strike twice.July 6\, at 6 pm: If I Had Legs\, I’d Kick YouWith her life crashing down around her\, Linda attempts to navigate her child's mysterious illness\, her absent husband\, a missing person\, and an increasingly hostile relationship with her therapist.August 10\, at 6 pm: Good FortuneA well-meaning but rather inept angel named Gabriel meddles in the lives of a struggling gig worker and a wealthy venture capitalist.
LOCATION:St-Laurent at Claude B. Aubry room
SEQUENCE:0
END:VEVENT
BEGIN:VEVENT
DTSTAMP:20260318T145846Z
UID:event743700-1786399200@biblioottawalibrary.ca
ORGANIZER;CN=Ottawa Public Library:MAILTO:oplwebchanges@biblioottawalibrary.ca
DTSTART;TZID=America/Toronto:20260810T180000
DTEND;TZID=America/Toronto:20260810T200000
SUMMARY:It's Time to Watch a Movie! 
DESCRIPTION:June 1\, at 6 pm: Freakier FridayTess's daughter Anna now has a daughter of her own and soon\, a stepdaughter. As they navigate the joys and challenges when two families merge\, lightning just may strike twice.July 6\, at 6 pm: If I Had Legs\, I’d Kick YouWith her life crashing down around her\, Linda attempts to navigate her child's mysterious illness\, her absent husband\, a missing person\, and an increasingly hostile relationship with her therapist.August 10\, at 6 pm: Good FortuneA well-meaning but rather inept angel named Gabriel meddles in the lives of a struggling gig worker and a wealthy venture capitalist.
LOCATION:St-Laurent at Claude B. Aubry room
SEQUENCE:0
END:VEVENT

END:VCALENDAR