
BEGIN:VCALENDAR
PRODID:-//Calendar//Calendar Event//EN
VERSION:2.0
METHOD:PUBLISH
BEGIN:VEVENT
DTSTAMP:20260318T150237Z
UID:event743703-1781560800@biblioottawalibrary.ca
ORGANIZER;CN=Ottawa Public Library:MAILTO:oplwebchanges@biblioottawalibrary.ca
DTSTART;TZID=America/Toronto:20260615T180000
DTEND;TZID=America/Toronto:20260615T200000
SUMMARY:C'est le temps pour un film !
DESCRIPTION:Le 15 juin Ă  18 h: Le Club VinlandC'est l'histoire de FrĂ¨re Jean\, un Ă©ducateur exceptionnel dans un collĂ¨ge de garĂ§ons de l'est du QuĂ©bec de la fin des annĂ©es 1940. AdulĂ© de ses Ă©lĂ¨ves\, mais perĂ§u comme trop dĂ©rangeant par les supĂ©rieurs de sa congrĂ©gation\, le FrĂ¨re Jean est un progressiste annonciateur des changements Ă  venir dans le QuĂ©bec des annĂ©es 1950 et 1960. Voulant Ă  la fois rĂ©soudre une Ă©nigme historique\, motiver ses Ă©lĂ¨ves et empĂŞcher le dĂ©crochage d'Ă‰mile\, un Ă©tudiant en difficultĂ©\, FrĂ¨re Jean entreprend de conduire des fouilles archĂ©ologiques visant Ă  prouver l'Ă©tablissement d'une colonie viking (le Vinland) sur la cĂ´te du Saint-Laurent.Le 20 juillet Ă  18 h: Le Jeune Karl Marx1844. De toute part\, dans une Europe en Ă©bullition\, les ouvriers\, premiĂ¨res victimes de la Â«RĂ©volution industrielleÂ»\, cherchent Ă  sâ€™organiser devant un Â«capitalÂ» effrĂ©nĂ© qui dĂ©vore tout sur son passage. Karl Marx\, journaliste et jeune philosophe de 26 ans\, victime de la censure dâ€™une Allemagne rĂ©pressive\, sâ€™exile Ă  Paris avec sa femme Jenny oĂą ils vont faire une rencontre dĂ©cisive : Friedrich Engels\, fils rĂ©voltĂ© dâ€™un riche industriel Allemand. Intelligents\, audacieux et tĂ©mĂ©raires\, ces trois jeunes gens dĂ©cident que Â«les philosophes nâ€™ont fait quâ€™interprĂ©ter le monde\, alors que le but est de le changerÂ»Â«. Entre parties dâ€™Ă©checs endiablĂ©es\, nuits dâ€™ivresse et dĂ©bats passionnĂ©s\, ils rĂ©digent fiĂ©vreusement ce qui deviendra la Â«bibleÂ» des rĂ©voltes ouvriĂ¨res en Europe : Â«Le manifeste du Parti CommunisteÂ»\, publiĂ© en 1848\, une oeuvre rĂ©volutionnaire sans prĂ©cĂ©dent.Le 24 aoĂ»t Ă  18 h: Lâ€™Histoire de SouleymaneTandis qu'il pĂ©dale dans les rues de Paris pour livrer des repas\, Souleymane rĂ©pĂ¨te son histoire. Dans deux jours\, il doit passer son entretien de demande d'asile\, le sĂ©same pour obtenir des papiers. Mais Souleymane n'est pas prĂŞt.
LOCATION:St-Laurent at Claude B. Aubry room
SEQUENCE:0
END:VEVENT
BEGIN:VEVENT
DTSTAMP:20260318T150237Z
UID:event743703-1784584800@biblioottawalibrary.ca
ORGANIZER;CN=Ottawa Public Library:MAILTO:oplwebchanges@biblioottawalibrary.ca
DTSTART;TZID=America/Toronto:20260720T180000
DTEND;TZID=America/Toronto:20260720T200000
SUMMARY:C'est le temps pour un film !
DESCRIPTION:Le 15 juin Ă  18 h: Le Club VinlandC'est l'histoire de FrĂ¨re Jean\, un Ă©ducateur exceptionnel dans un collĂ¨ge de garĂ§ons de l'est du QuĂ©bec de la fin des annĂ©es 1940. AdulĂ© de ses Ă©lĂ¨ves\, mais perĂ§u comme trop dĂ©rangeant par les supĂ©rieurs de sa congrĂ©gation\, le FrĂ¨re Jean est un progressiste annonciateur des changements Ă  venir dans le QuĂ©bec des annĂ©es 1950 et 1960. Voulant Ă  la fois rĂ©soudre une Ă©nigme historique\, motiver ses Ă©lĂ¨ves et empĂŞcher le dĂ©crochage d'Ă‰mile\, un Ă©tudiant en difficultĂ©\, FrĂ¨re Jean entreprend de conduire des fouilles archĂ©ologiques visant Ă  prouver l'Ă©tablissement d'une colonie viking (le Vinland) sur la cĂ´te du Saint-Laurent.Le 20 juillet Ă  18 h: Le Jeune Karl Marx1844. De toute part\, dans une Europe en Ă©bullition\, les ouvriers\, premiĂ¨res victimes de la Â«RĂ©volution industrielleÂ»\, cherchent Ă  sâ€™organiser devant un Â«capitalÂ» effrĂ©nĂ© qui dĂ©vore tout sur son passage. Karl Marx\, journaliste et jeune philosophe de 26 ans\, victime de la censure dâ€™une Allemagne rĂ©pressive\, sâ€™exile Ă  Paris avec sa femme Jenny oĂą ils vont faire une rencontre dĂ©cisive : Friedrich Engels\, fils rĂ©voltĂ© dâ€™un riche industriel Allemand. Intelligents\, audacieux et tĂ©mĂ©raires\, ces trois jeunes gens dĂ©cident que Â«les philosophes nâ€™ont fait quâ€™interprĂ©ter le monde\, alors que le but est de le changerÂ»Â«. Entre parties dâ€™Ă©checs endiablĂ©es\, nuits dâ€™ivresse et dĂ©bats passionnĂ©s\, ils rĂ©digent fiĂ©vreusement ce qui deviendra la Â«bibleÂ» des rĂ©voltes ouvriĂ¨res en Europe : Â«Le manifeste du Parti CommunisteÂ»\, publiĂ© en 1848\, une oeuvre rĂ©volutionnaire sans prĂ©cĂ©dent.Le 24 aoĂ»t Ă  18 h: Lâ€™Histoire de SouleymaneTandis qu'il pĂ©dale dans les rues de Paris pour livrer des repas\, Souleymane rĂ©pĂ¨te son histoire. Dans deux jours\, il doit passer son entretien de demande d'asile\, le sĂ©same pour obtenir des papiers. Mais Souleymane n'est pas prĂŞt.
LOCATION:St-Laurent at Claude B. Aubry room
SEQUENCE:0
END:VEVENT
BEGIN:VEVENT
DTSTAMP:20260318T150237Z
UID:event743703-1787608800@biblioottawalibrary.ca
ORGANIZER;CN=Ottawa Public Library:MAILTO:oplwebchanges@biblioottawalibrary.ca
DTSTART;TZID=America/Toronto:20260824T180000
DTEND;TZID=America/Toronto:20260824T200000
SUMMARY:C'est le temps pour un film !
DESCRIPTION:Le 15 juin Ă  18 h: Le Club VinlandC'est l'histoire de FrĂ¨re Jean\, un Ă©ducateur exceptionnel dans un collĂ¨ge de garĂ§ons de l'est du QuĂ©bec de la fin des annĂ©es 1940. AdulĂ© de ses Ă©lĂ¨ves\, mais perĂ§u comme trop dĂ©rangeant par les supĂ©rieurs de sa congrĂ©gation\, le FrĂ¨re Jean est un progressiste annonciateur des changements Ă  venir dans le QuĂ©bec des annĂ©es 1950 et 1960. Voulant Ă  la fois rĂ©soudre une Ă©nigme historique\, motiver ses Ă©lĂ¨ves et empĂŞcher le dĂ©crochage d'Ă‰mile\, un Ă©tudiant en difficultĂ©\, FrĂ¨re Jean entreprend de conduire des fouilles archĂ©ologiques visant Ă  prouver l'Ă©tablissement d'une colonie viking (le Vinland) sur la cĂ´te du Saint-Laurent.Le 20 juillet Ă  18 h: Le Jeune Karl Marx1844. De toute part\, dans une Europe en Ă©bullition\, les ouvriers\, premiĂ¨res victimes de la Â«RĂ©volution industrielleÂ»\, cherchent Ă  sâ€™organiser devant un Â«capitalÂ» effrĂ©nĂ© qui dĂ©vore tout sur son passage. Karl Marx\, journaliste et jeune philosophe de 26 ans\, victime de la censure dâ€™une Allemagne rĂ©pressive\, sâ€™exile Ă  Paris avec sa femme Jenny oĂą ils vont faire une rencontre dĂ©cisive : Friedrich Engels\, fils rĂ©voltĂ© dâ€™un riche industriel Allemand. Intelligents\, audacieux et tĂ©mĂ©raires\, ces trois jeunes gens dĂ©cident que Â«les philosophes nâ€™ont fait quâ€™interprĂ©ter le monde\, alors que le but est de le changerÂ»Â«. Entre parties dâ€™Ă©checs endiablĂ©es\, nuits dâ€™ivresse et dĂ©bats passionnĂ©s\, ils rĂ©digent fiĂ©vreusement ce qui deviendra la Â«bibleÂ» des rĂ©voltes ouvriĂ¨res en Europe : Â«Le manifeste du Parti CommunisteÂ»\, publiĂ© en 1848\, une oeuvre rĂ©volutionnaire sans prĂ©cĂ©dent.Le 24 aoĂ»t Ă  18 h: Lâ€™Histoire de SouleymaneTandis qu'il pĂ©dale dans les rues de Paris pour livrer des repas\, Souleymane rĂ©pĂ¨te son histoire. Dans deux jours\, il doit passer son entretien de demande d'asile\, le sĂ©same pour obtenir des papiers. Mais Souleymane n'est pas prĂŞt.
LOCATION:St-Laurent at Claude B. Aubry room
SEQUENCE:0
END:VEVENT

END:VCALENDAR