
BEGIN:VCALENDAR
PRODID:-//Calendar//Calendar Event//EN
VERSION:2.0
METHOD:PUBLISH
BEGIN:VEVENT
DTSTAMP:20251210T151015Z
UID:event743808-1778623200@biblioottawalibrary.ca
ORGANIZER;CN=Ottawa Public Library:MAILTO:oplwebchanges@biblioottawalibrary.ca
DTSTART;TZID=America/Toronto:20260512T180000
DTEND;TZID=America/Toronto:20260512T200000
SUMMARY:Italian Movie Night with The Dante Alighieri Society
DESCRIPTION:Enjoy a selection of films\, each from an Italian director! Films will be presented with English subtitles.&nbsp\;Presented by the Ottawa Chapter of the Dante Alighieri Society in collaboration with the OPL presents a monthly Italian movie night. The Dante Alighieri Society is a volunteer not for profit organization registered in Ontario\, dedicated to the promotion of Italian culture.April movie: Riso Amaro 1949May movie: L"avventura&nbsp\;1960
LOCATION:Sunnyside at Program room 1B
SEQUENCE:0
END:VEVENT

END:VCALENDAR